BEGIN:VCALENDAR
VERSION:2.0
PRODID:-//Jeffersonville Main Street, Inc. - ECPv6.15.20//NONSGML v1.0//EN
CALSCALE:GREGORIAN
METHOD:PUBLISH
X-ORIGINAL-URL:https://www.jeffmainstreet.org
X-WR-CALDESC:Events for Jeffersonville Main Street, Inc.
REFRESH-INTERVAL;VALUE=DURATION:PT1H
X-Robots-Tag:noindex
X-PUBLISHED-TTL:PT1H
BEGIN:VTIMEZONE
TZID:America/Kentucky/Louisville
BEGIN:DAYLIGHT
TZOFFSETFROM:-0500
TZOFFSETTO:-0400
TZNAME:EDT
DTSTART:20240310T070000
END:DAYLIGHT
BEGIN:STANDARD
TZOFFSETFROM:-0400
TZOFFSETTO:-0500
TZNAME:EST
DTSTART:20241103T060000
END:STANDARD
BEGIN:DAYLIGHT
TZOFFSETFROM:-0500
TZOFFSETTO:-0400
TZNAME:EDT
DTSTART:20250309T070000
END:DAYLIGHT
BEGIN:STANDARD
TZOFFSETFROM:-0400
TZOFFSETTO:-0500
TZNAME:EST
DTSTART:20251102T060000
END:STANDARD
BEGIN:DAYLIGHT
TZOFFSETFROM:-0500
TZOFFSETTO:-0400
TZNAME:EDT
DTSTART:20260308T070000
END:DAYLIGHT
BEGIN:STANDARD
TZOFFSETFROM:-0400
TZOFFSETTO:-0500
TZNAME:EST
DTSTART:20261101T060000
END:STANDARD
END:VTIMEZONE
BEGIN:VEVENT
DTSTART;TZID=America/Kentucky/Louisville:20250522T130000
DTEND;TZID=America/Kentucky/Louisville:20250526T230000
DTSTAMP:20260420T023241
CREATED:20170213T225812Z
LAST-MODIFIED:20250113T191902Z
UID:10000766-1747918800-1748300400@www.jeffmainstreet.org
SUMMARY:Abbey Road on the River: Downtown Jeffersonville\, Indiana!
DESCRIPTION:Abbey Road on the River Celebrating the Music and Legend of the Beatles in Downtown Jeffersonville\, Indiana\, May 22-May26\, 2025! \n\nEnjoy hundreds of Beatles and 60’s themed concerts all in one place for 4 consecutive days presented by 60 bands.\n\n\n\n\n25\,000 music fans from across the universe have been regularly attending Abbey Road On The River since 2002. They come with friends\, with kids\, with grandkids\, and even alone because no one is ever alone at Abbey Road On The River. Everyone sings and dances and everyone rediscovers their inner Beatle. You can too. It’s the weekend you will mark your year by and you will wonder how you never knew how much fun a music festival could be. \nTickets are available at www.arotr.com. \nAbbey Road on the River averages 20\,000 attendees and features around 60 performers\, the majority of them Beatles tribute bands.
URL:https://www.jeffmainstreet.org/event/abbey-road-on-the-river-in-downtown-jeffersonville-indiana/
LOCATION:Big Four Station\, 222 W. Market Street\, Jeffersonville\, IN\, 47130\, United States
CATEGORIES:event
GEO:38.270949;-85.742103
X-APPLE-STRUCTURED-LOCATION;VALUE=URI;X-ADDRESS=Big Four Station 222 W. Market Street Jeffersonville IN 47130 United States;X-APPLE-RADIUS=500;X-TITLE=222 W. Market Street:geo:-85.742103,38.270949
END:VEVENT
END:VCALENDAR