BEGIN:VCALENDAR
VERSION:2.0
PRODID:-//Jeffersonville Main Street, Inc. - ECPv6.15.20//NONSGML v1.0//EN
CALSCALE:GREGORIAN
METHOD:PUBLISH
X-WR-CALNAME:Jeffersonville Main Street, Inc.
X-ORIGINAL-URL:https://www.jeffmainstreet.org
X-WR-CALDESC:Events for Jeffersonville Main Street, Inc.
REFRESH-INTERVAL;VALUE=DURATION:PT1H
X-Robots-Tag:noindex
X-PUBLISHED-TTL:PT1H
BEGIN:VTIMEZONE
TZID:America/Kentucky/Louisville
BEGIN:DAYLIGHT
TZOFFSETFROM:-0500
TZOFFSETTO:-0400
TZNAME:EDT
DTSTART:20240310T070000
END:DAYLIGHT
BEGIN:STANDARD
TZOFFSETFROM:-0400
TZOFFSETTO:-0500
TZNAME:EST
DTSTART:20241103T060000
END:STANDARD
BEGIN:DAYLIGHT
TZOFFSETFROM:-0500
TZOFFSETTO:-0400
TZNAME:EDT
DTSTART:20250309T070000
END:DAYLIGHT
BEGIN:STANDARD
TZOFFSETFROM:-0400
TZOFFSETTO:-0500
TZNAME:EST
DTSTART:20251102T060000
END:STANDARD
BEGIN:DAYLIGHT
TZOFFSETFROM:-0500
TZOFFSETTO:-0400
TZNAME:EDT
DTSTART:20260308T070000
END:DAYLIGHT
BEGIN:STANDARD
TZOFFSETFROM:-0400
TZOFFSETTO:-0500
TZNAME:EST
DTSTART:20261101T060000
END:STANDARD
END:VTIMEZONE
BEGIN:VEVENT
DTSTART;TZID=America/Kentucky/Louisville:20250607T090000
DTEND;TZID=America/Kentucky/Louisville:20250607T120000
DTSTAMP:20260420T005428
CREATED:20250112T051539Z
LAST-MODIFIED:20250112T051941Z
UID:10000932-1749286800-1749297600@www.jeffmainstreet.org
SUMMARY:Jeffersonville Farmers Market at Big Four Station
DESCRIPTION:Open Saturdays June-October at Big Four Station in Downtown Jeffersonville!\nEnjoy fresh produce\, meats\, eggs\, baked goods\, cheeses\, honey\, live music\, and more at the Jeffersonville Farmers Market at Big Four Station on 222 W. Market Street in Downtown Jeffersonville. \nClick here for more info about the Jeffersonville Farmers Market
URL:https://www.jeffmainstreet.org/event/jeffersonville-farmers-market-at-big-four-station-4-2/2025-06-07/
LOCATION:Big Four Station\, 222 W. Market Street\, Jeffersonville\, IN\, 47130\, United States
CATEGORIES:event,farmers market
ATTACH;FMTTYPE=image/png:https://www.jeffmainstreet.org/wp-content/uploads/2020/09/Webslider-Farmers-1.png
ORGANIZER;CN="Jeffersonville Main Street%2C Inc.":MAILTO:info@jeffmainstreet.org
GEO:38.270949;-85.742103
X-APPLE-STRUCTURED-LOCATION;VALUE=URI;X-ADDRESS=Big Four Station 222 W. Market Street Jeffersonville IN 47130 United States;X-APPLE-RADIUS=500;X-TITLE=222 W. Market Street:geo:-85.742103,38.270949
END:VEVENT
BEGIN:VEVENT
DTSTART;TZID=America/Kentucky/Louisville:20250607T150000
DTEND;TZID=America/Kentucky/Louisville:20250607T190000
DTSTAMP:20260420T005428
CREATED:20240419T151919Z
LAST-MODIFIED:20250516T174545Z
UID:10000933-1749308400-1749322800@www.jeffmainstreet.org
SUMMARY:Rollin' On The River Craft Beer Festival
DESCRIPTION:WELCOME TO ROLLIN’ ON THE RIVER CRAFT BEER FEST: Saturday\, June 7\, 2025\n\nThis event will be held on the grounds of the Howard Steamboat Museum in Downtown Jeffersonville\, Indiana. The expansive grounds boast beautiful views of the Ohio River and is located just blocks from downtown Jeffersonville. With plenty of shade and room to roam\, it’s an ideal location for the event. The craft beer experts of Pearl Street Taphouse along with Antz Marching\, LLC invite you to join us for Rollin’ on the River Craft Beer Festival where ticket-buyers can sample more than 100 craft beers! Festivities will be on June 7\, 2025 from 3-7pm.
URL:https://www.jeffmainstreet.org/event/rollin-on-the-river-craft-beer-festival/
LOCATION:Howard Steamboat Museum\, 1101 E. Market Street\, Jeffersonville\, IN\, 47130
CATEGORIES:event
END:VEVENT
BEGIN:VEVENT
DTSTART;TZID=America/Kentucky/Louisville:20250607T160000
DTEND;TZID=America/Kentucky/Louisville:20250607T230000
DTSTAMP:20260420T005428
CREATED:20240503T161800Z
LAST-MODIFIED:20250516T183305Z
UID:10000818-1749312000-1749337200@www.jeffmainstreet.org
SUMMARY:Southern Indiana Pride Festival
DESCRIPTION:Southern Indiana Pride’s focus is on making sure Southern Indiana remains a place where ideals like kindness & diversity thrive! The festival will take place at Big Four Station with food\, live music\, and entertainment!!!
URL:https://www.jeffmainstreet.org/event/southern-indiana-pride-festival/
LOCATION:Market & Spring Streets\, Jeffersonville\, IN\, 47130\, United States
CATEGORIES:event
GEO:38.270702;-85.739458
END:VEVENT
END:VCALENDAR