BEGIN:VCALENDAR
VERSION:2.0
PRODID:-//Jeffersonville Main Street, Inc. - ECPv6.15.20//NONSGML v1.0//EN
CALSCALE:GREGORIAN
METHOD:PUBLISH
X-ORIGINAL-URL:https://www.jeffmainstreet.org
X-WR-CALDESC:Events for Jeffersonville Main Street, Inc.
REFRESH-INTERVAL;VALUE=DURATION:PT1H
X-Robots-Tag:noindex
X-PUBLISHED-TTL:PT1H
BEGIN:VTIMEZONE
TZID:America/Kentucky/Louisville
BEGIN:DAYLIGHT
TZOFFSETFROM:-0500
TZOFFSETTO:-0400
TZNAME:EDT
DTSTART:20240310T070000
END:DAYLIGHT
BEGIN:STANDARD
TZOFFSETFROM:-0400
TZOFFSETTO:-0500
TZNAME:EST
DTSTART:20241103T060000
END:STANDARD
BEGIN:DAYLIGHT
TZOFFSETFROM:-0500
TZOFFSETTO:-0400
TZNAME:EDT
DTSTART:20250309T070000
END:DAYLIGHT
BEGIN:STANDARD
TZOFFSETFROM:-0400
TZOFFSETTO:-0500
TZNAME:EST
DTSTART:20251102T060000
END:STANDARD
BEGIN:DAYLIGHT
TZOFFSETFROM:-0500
TZOFFSETTO:-0400
TZNAME:EDT
DTSTART:20260308T070000
END:DAYLIGHT
BEGIN:STANDARD
TZOFFSETFROM:-0400
TZOFFSETTO:-0500
TZNAME:EST
DTSTART:20261101T060000
END:STANDARD
END:VTIMEZONE
BEGIN:VEVENT
DTSTART;TZID=America/Kentucky/Louisville:20251118T120000
DTEND;TZID=America/Kentucky/Louisville:20251214T170000
DTSTAMP:20260419T142414
CREATED:20251202T174754Z
LAST-MODIFIED:20251202T174754Z
UID:10000959-1763467200-1765731600@www.jeffmainstreet.org
SUMMARY:White Christmas at Clark County Museum
DESCRIPTION:Come to the Clark County Museum in Historic Downtown Jeffersonville\, Indiana to see a vintage 1950’s Hoosier Christmas! The museum has several items on display from the classic movie “White Christmas\,” plus they have lots of other vintage Christmas displays set up that will give the whole family a nostalgic feeling.  The museum also has photos with Santa Claus and several other activities planned. Go to the museum website for more info: News and Events – Clark County Indiana Museum
URL:https://www.jeffmainstreet.org/event/white-christmas-at-clark-county-museum/
LOCATION:Clark County Museum\, 725 Michigan Avenue\, Jeffersonville\, IN\, 47130\, United States
END:VEVENT
BEGIN:VEVENT
DTSTART;TZID=America/Kentucky/Louisville:20251122T180000
DTEND;TZID=America/Kentucky/Louisville:20251122T200000
DTSTAMP:20260419T142414
CREATED:20181116T183412Z
LAST-MODIFIED:20251030T190437Z
UID:10000768-1763834400-1763841600@www.jeffmainstreet.org
SUMMARY:Holiday Parade and Light Up Jeffersonville
DESCRIPTION:Jeffersonville’s Holiday Lights Parade is Saturday\, November 22 at 6pm on Spring Street (between Market Street and Warder Park). The parade is followed by Light Up Jeffersonville in Warder Park at 7pm!  \n \n\n \nFree activities of the North Pole Party begin at 4pm in Warder Park with games\, music\, rides\, and visits with Santa Claus.
URL:https://www.jeffmainstreet.org/event/holiday-parade-and-light-up-jeffersonville/
LOCATION:Warder Park\, 109 E. Court Avenue\, Jeffersonville\, IN\, 47130\, United States
CATEGORIES:event
GEO:38.274879;-85.741874
X-APPLE-STRUCTURED-LOCATION;VALUE=URI;X-ADDRESS=Warder Park 109 E. Court Avenue Jeffersonville IN 47130 United States;X-APPLE-RADIUS=500;X-TITLE=109 E. Court Avenue:geo:-85.741874,38.274879
END:VEVENT
END:VCALENDAR