BEGIN:VCALENDAR
VERSION:2.0
PRODID:-//Jeffersonville Main Street, Inc. - ECPv6.15.20//NONSGML v1.0//EN
CALSCALE:GREGORIAN
METHOD:PUBLISH
X-ORIGINAL-URL:https://www.jeffmainstreet.org
X-WR-CALDESC:Events for Jeffersonville Main Street, Inc.
REFRESH-INTERVAL;VALUE=DURATION:PT1H
X-Robots-Tag:noindex
X-PUBLISHED-TTL:PT1H
BEGIN:VTIMEZONE
TZID:America/Kentucky/Louisville
BEGIN:DAYLIGHT
TZOFFSETFROM:-0500
TZOFFSETTO:-0400
TZNAME:EDT
DTSTART:20230312T070000
END:DAYLIGHT
BEGIN:STANDARD
TZOFFSETFROM:-0400
TZOFFSETTO:-0500
TZNAME:EST
DTSTART:20231105T060000
END:STANDARD
BEGIN:DAYLIGHT
TZOFFSETFROM:-0500
TZOFFSETTO:-0400
TZNAME:EDT
DTSTART:20240310T070000
END:DAYLIGHT
BEGIN:STANDARD
TZOFFSETFROM:-0400
TZOFFSETTO:-0500
TZNAME:EST
DTSTART:20241103T060000
END:STANDARD
BEGIN:DAYLIGHT
TZOFFSETFROM:-0500
TZOFFSETTO:-0400
TZNAME:EDT
DTSTART:20250309T070000
END:DAYLIGHT
BEGIN:STANDARD
TZOFFSETFROM:-0400
TZOFFSETTO:-0500
TZNAME:EST
DTSTART:20251102T060000
END:STANDARD
END:VTIMEZONE
BEGIN:VEVENT
DTSTART;TZID=America/Kentucky/Louisville:20240802T190000
DTEND;TZID=America/Kentucky/Louisville:20240802T210000
DTSTAMP:20260420T202332
CREATED:20220617T174523Z
LAST-MODIFIED:20240424T203401Z
UID:10000783-1722625200-1722632400@www.jeffmainstreet.org
SUMMARY:Concert: Moonlight Big Band
DESCRIPTION:The Moonlight Big Band plays Big Band tunes to get your toes tappin’! Hear wonderful live music in Historic Downtown Jeffersonville at 7pm on Fridays.  Bring your lawn chair or blanket to enjoy a great concert at Sonny Brewster Bandstand in Warder Park.  Free admission.  Concessions available for purchase.
URL:https://www.jeffmainstreet.org/event/concert-in-the-park-moonlight-big-band/
LOCATION:Warder Park\, 109 E. Court Avenue\, Jeffersonville\, IN\, 47130\, United States
CATEGORIES:concerts in the park
ORGANIZER;CN="Jeffersonville Main Street%2C Inc.":MAILTO:info@jeffmainstreet.org
GEO:38.274879;-85.741874
X-APPLE-STRUCTURED-LOCATION;VALUE=URI;X-ADDRESS=Warder Park 109 E. Court Avenue Jeffersonville IN 47130 United States;X-APPLE-RADIUS=500;X-TITLE=109 E. Court Avenue:geo:-85.741874,38.274879
END:VEVENT
BEGIN:VEVENT
DTSTART;TZID=America/Kentucky/Louisville:20240803T090000
DTEND;TZID=America/Kentucky/Louisville:20240803T120000
DTSTAMP:20260420T202332
CREATED:20240410T003907Z
LAST-MODIFIED:20240410T003907Z
UID:10000920-1722675600-1722686400@www.jeffmainstreet.org
SUMMARY:Jeffersonville Farmers Market at Big Four Station
DESCRIPTION:Open Saturdays June-October at Big Four Station in Downtown Jeffersonville!\nEnjoy fresh produce\, meats\, eggs\, baked goods\, cheeses\, honey\, live music\, and more at the Jeffersonville Farmers Market at Big Four Station on 222 W. Market Street in Downtown Jeffersonville. \nClick here for more info about the Jeffersonville Farmers Market
URL:https://www.jeffmainstreet.org/event/jeffersonville-farmers-market-at-big-four-station-4/2024-08-03/
LOCATION:Big Four Station\, 222 W. Market Street\, Jeffersonville\, IN\, 47130\, United States
CATEGORIES:event,farmers market
ATTACH;FMTTYPE=image/png:https://www.jeffmainstreet.org/wp-content/uploads/2020/09/Webslider-Farmers-1.png
ORGANIZER;CN="Jeffersonville Main Street%2C Inc.":MAILTO:info@jeffmainstreet.org
GEO:38.270949;-85.742103
X-APPLE-STRUCTURED-LOCATION;VALUE=URI;X-ADDRESS=Big Four Station 222 W. Market Street Jeffersonville IN 47130 United States;X-APPLE-RADIUS=500;X-TITLE=222 W. Market Street:geo:-85.742103,38.270949
END:VEVENT
BEGIN:VEVENT
DTSTART;TZID=America/Kentucky/Louisville:20240809T190000
DTEND;TZID=America/Kentucky/Louisville:20240809T210000
DTSTAMP:20260420T202332
CREATED:20230427T161522Z
LAST-MODIFIED:20240424T202041Z
UID:10000802-1723230000-1723237200@www.jeffmainstreet.org
SUMMARY:Concert: The Kosair Dance Band
DESCRIPTION:This week’s band is The Kosair Dance Band.  Enjoy a FREE concert at Warder Park in Historic Downtown Jeffersonville every Friday June-August at 7pm.  We encourage attendees to patronize one of Downtown Jeffersonville’s wonderful restaurants before or after the concerts.  Beverages and light refreshments will also be available for purchase in the park during the concerts. \n      
URL:https://www.jeffmainstreet.org/event/concert-the-kosair-band/
LOCATION:Warder Park in Historic Downtown Jeffersonville\, Indiana\, 109 E. Court Avenue\, Jeffersonville\, IN\, 47130\, United States
CATEGORIES:concerts in the park
ATTACH;FMTTYPE=image/jpeg:https://www.jeffmainstreet.org/wp-content/uploads/2022/04/Concert-in-Warder-Park-Clark-Band-Jeffersonville-Main-Street-1-scaled.jpg
ORGANIZER;CN="Jeffersonville Main Street%2C Inc.":MAILTO:info@jeffmainstreet.org
END:VEVENT
BEGIN:VEVENT
DTSTART;TZID=America/Kentucky/Louisville:20240810T090000
DTEND;TZID=America/Kentucky/Louisville:20240810T120000
DTSTAMP:20260420T202332
CREATED:20240410T003907Z
LAST-MODIFIED:20240410T003907Z
UID:10000921-1723280400-1723291200@www.jeffmainstreet.org
SUMMARY:Jeffersonville Farmers Market at Big Four Station
DESCRIPTION:Open Saturdays June-October at Big Four Station in Downtown Jeffersonville!\nEnjoy fresh produce\, meats\, eggs\, baked goods\, cheeses\, honey\, live music\, and more at the Jeffersonville Farmers Market at Big Four Station on 222 W. Market Street in Downtown Jeffersonville. \nClick here for more info about the Jeffersonville Farmers Market
URL:https://www.jeffmainstreet.org/event/jeffersonville-farmers-market-at-big-four-station-4/2024-08-10/
LOCATION:Big Four Station\, 222 W. Market Street\, Jeffersonville\, IN\, 47130\, United States
CATEGORIES:event,farmers market
ATTACH;FMTTYPE=image/png:https://www.jeffmainstreet.org/wp-content/uploads/2020/09/Webslider-Farmers-1.png
ORGANIZER;CN="Jeffersonville Main Street%2C Inc.":MAILTO:info@jeffmainstreet.org
GEO:38.270949;-85.742103
X-APPLE-STRUCTURED-LOCATION;VALUE=URI;X-ADDRESS=Big Four Station 222 W. Market Street Jeffersonville IN 47130 United States;X-APPLE-RADIUS=500;X-TITLE=222 W. Market Street:geo:-85.742103,38.270949
END:VEVENT
BEGIN:VEVENT
DTSTART;TZID=America/Kentucky/Louisville:20240816T190000
DTEND;TZID=America/Kentucky/Louisville:20240816T210000
DTSTAMP:20260420T202332
CREATED:20230401T030953Z
LAST-MODIFIED:20240424T203630Z
UID:10000798-1723834800-1723842000@www.jeffmainstreet.org
SUMMARY:Concert: Take Two
DESCRIPTION:This week’s band is Take Two\, playing Ballads & the American Songbook.  Enjoy a FREE concert at Warder Park in Historic Downtown Jeffersonville every Friday June-August at 7pm.  We encourage attendees to patronize one of Downtown Jeffersonville’s wonderful restaurants before or after the concerts.  Beverages and light refreshments will also be available for purchase in the park during the concerts.
URL:https://www.jeffmainstreet.org/event/concert-take-two-company/
LOCATION:Warder Park in Historic Downtown Jeffersonville\, Indiana\, 109 E. Court Avenue\, Jeffersonville\, IN\, 47130\, United States
CATEGORIES:concerts in the park
ATTACH;FMTTYPE=image/jpeg:https://www.jeffmainstreet.org/wp-content/uploads/2022/04/Concert-in-Warder-Park-Clark-Band-Jeffersonville-Main-Street-1-scaled.jpg
ORGANIZER;CN="Jeffersonville Main Street%2C Inc.":MAILTO:info@jeffmainstreet.org
END:VEVENT
BEGIN:VEVENT
DTSTART;TZID=America/Kentucky/Louisville:20240817T090000
DTEND;TZID=America/Kentucky/Louisville:20240817T120000
DTSTAMP:20260420T202332
CREATED:20240410T003907Z
LAST-MODIFIED:20240410T003907Z
UID:10000922-1723885200-1723896000@www.jeffmainstreet.org
SUMMARY:Jeffersonville Farmers Market at Big Four Station
DESCRIPTION:Open Saturdays June-October at Big Four Station in Downtown Jeffersonville!\nEnjoy fresh produce\, meats\, eggs\, baked goods\, cheeses\, honey\, live music\, and more at the Jeffersonville Farmers Market at Big Four Station on 222 W. Market Street in Downtown Jeffersonville. \nClick here for more info about the Jeffersonville Farmers Market
URL:https://www.jeffmainstreet.org/event/jeffersonville-farmers-market-at-big-four-station-4/2024-08-17/
LOCATION:Big Four Station\, 222 W. Market Street\, Jeffersonville\, IN\, 47130\, United States
CATEGORIES:event,farmers market
ATTACH;FMTTYPE=image/png:https://www.jeffmainstreet.org/wp-content/uploads/2020/09/Webslider-Farmers-1.png
ORGANIZER;CN="Jeffersonville Main Street%2C Inc.":MAILTO:info@jeffmainstreet.org
GEO:38.270949;-85.742103
X-APPLE-STRUCTURED-LOCATION;VALUE=URI;X-ADDRESS=Big Four Station 222 W. Market Street Jeffersonville IN 47130 United States;X-APPLE-RADIUS=500;X-TITLE=222 W. Market Street:geo:-85.742103,38.270949
END:VEVENT
BEGIN:VEVENT
DTSTART;TZID=America/Kentucky/Louisville:20240823T190000
DTEND;TZID=America/Kentucky/Louisville:20240823T210000
DTSTAMP:20260420T202332
CREATED:20230427T161741Z
LAST-MODIFIED:20240424T203835Z
UID:10000803-1724439600-1724446800@www.jeffmainstreet.org
SUMMARY:Concert: The Clark Band
DESCRIPTION:This week’s band is The Clark Band\, playing Classic Rock from the 1960’s-1980’s.  Enjoy a FREE concert at Warder Park in Historic Downtown Jeffersonville every Friday June-August at 7pm.  We encourage attendees to patronize one of Downtown Jeffersonville’s wonderful restaurants before or after the concerts.  Beverages and light refreshments will also be available for purchase in the park during the concerts. \n      
URL:https://www.jeffmainstreet.org/event/concert-the-clark-band/
LOCATION:Warder Park in Historic Downtown Jeffersonville\, Indiana\, 109 E. Court Avenue\, Jeffersonville\, IN\, 47130\, United States
CATEGORIES:concerts in the park
ATTACH;FMTTYPE=image/jpeg:https://www.jeffmainstreet.org/wp-content/uploads/2022/04/Concert-in-Warder-Park-Clark-Band-Jeffersonville-Main-Street-1-scaled.jpg
ORGANIZER;CN="Jeffersonville Main Street%2C Inc.":MAILTO:info@jeffmainstreet.org
END:VEVENT
BEGIN:VEVENT
DTSTART;TZID=America/Kentucky/Louisville:20240824T090000
DTEND;TZID=America/Kentucky/Louisville:20240824T120000
DTSTAMP:20260420T202332
CREATED:20240410T003907Z
LAST-MODIFIED:20240410T003907Z
UID:10000923-1724490000-1724500800@www.jeffmainstreet.org
SUMMARY:Jeffersonville Farmers Market at Big Four Station
DESCRIPTION:Open Saturdays June-October at Big Four Station in Downtown Jeffersonville!\nEnjoy fresh produce\, meats\, eggs\, baked goods\, cheeses\, honey\, live music\, and more at the Jeffersonville Farmers Market at Big Four Station on 222 W. Market Street in Downtown Jeffersonville. \nClick here for more info about the Jeffersonville Farmers Market
URL:https://www.jeffmainstreet.org/event/jeffersonville-farmers-market-at-big-four-station-4/2024-08-24/
LOCATION:Big Four Station\, 222 W. Market Street\, Jeffersonville\, IN\, 47130\, United States
CATEGORIES:event,farmers market
ATTACH;FMTTYPE=image/png:https://www.jeffmainstreet.org/wp-content/uploads/2020/09/Webslider-Farmers-1.png
ORGANIZER;CN="Jeffersonville Main Street%2C Inc.":MAILTO:info@jeffmainstreet.org
GEO:38.270949;-85.742103
X-APPLE-STRUCTURED-LOCATION;VALUE=URI;X-ADDRESS=Big Four Station 222 W. Market Street Jeffersonville IN 47130 United States;X-APPLE-RADIUS=500;X-TITLE=222 W. Market Street:geo:-85.742103,38.270949
END:VEVENT
BEGIN:VEVENT
DTSTART;TZID=America/Kentucky/Louisville:20240830T170000
DTEND;TZID=America/Kentucky/Louisville:20240830T230000
DTSTAMP:20260420T202332
CREATED:20240807T172854Z
LAST-MODIFIED:20240807T172854Z
UID:10000935-1725037200-1725058800@www.jeffmainstreet.org
SUMMARY:Augtoberfest
DESCRIPTION:Beer\, food\, music\, & games — it’s Augtoberfest — and it’s on FRIDAY\, August 30 from 5pm-11pm!! This new event is a family-friendly block party in the 400 block of Pearl Street in Downtown Jeffersonville hosted by Pearl Street TapHouse to benefit Jeffersonville Main Street’s nonprofit downtown revitalization work! See you there!
URL:https://www.jeffmainstreet.org/event/augtoberfest/
LOCATION:400 Block of Pearl Street in Downtown Jeffersonville\, 407 Pearl Street\, Jeffersonville\, IN\, 47130
CATEGORIES:event
END:VEVENT
BEGIN:VEVENT
DTSTART;TZID=America/Kentucky/Louisville:20240830T190000
DTEND;TZID=America/Kentucky/Louisville:20240830T210000
DTSTAMP:20260420T202332
CREATED:20230331T191750Z
LAST-MODIFIED:20240424T204014Z
UID:10000797-1725044400-1725051600@www.jeffmainstreet.org
SUMMARY:Concert: Moon Dogs
DESCRIPTION:This week’s band is the Moon Dogs playing classic Pop & Rock hits!  Enjoy a FREE concert at Warder Park in Historic Downtown Jeffersonville every Friday June-August at 7pm.  We encourage attendees to patronize one of Downtown Jeffersonville’s wonderful restaurants before or after the concerts.  Beverages and light refreshments will also be available for purchase in the park during the concerts. \n      
URL:https://www.jeffmainstreet.org/event/concert-moon-dogs/
LOCATION:Warder Park in Historic Downtown Jeffersonville\, Indiana\, 109 E. Court Avenue\, Jeffersonville\, IN\, 47130\, United States
CATEGORIES:concerts in the park
ORGANIZER;CN="Jeffersonville Main Street%2C Inc.":MAILTO:info@jeffmainstreet.org
END:VEVENT
BEGIN:VEVENT
DTSTART;TZID=America/Kentucky/Louisville:20240831T090000
DTEND;TZID=America/Kentucky/Louisville:20240831T120000
DTSTAMP:20260420T202332
CREATED:20240410T003907Z
LAST-MODIFIED:20240410T003907Z
UID:10000924-1725094800-1725105600@www.jeffmainstreet.org
SUMMARY:Jeffersonville Farmers Market at Big Four Station
DESCRIPTION:Open Saturdays June-October at Big Four Station in Downtown Jeffersonville!\nEnjoy fresh produce\, meats\, eggs\, baked goods\, cheeses\, honey\, live music\, and more at the Jeffersonville Farmers Market at Big Four Station on 222 W. Market Street in Downtown Jeffersonville. \nClick here for more info about the Jeffersonville Farmers Market
URL:https://www.jeffmainstreet.org/event/jeffersonville-farmers-market-at-big-four-station-4/2024-08-31/
LOCATION:Big Four Station\, 222 W. Market Street\, Jeffersonville\, IN\, 47130\, United States
CATEGORIES:event,farmers market
ATTACH;FMTTYPE=image/png:https://www.jeffmainstreet.org/wp-content/uploads/2020/09/Webslider-Farmers-1.png
ORGANIZER;CN="Jeffersonville Main Street%2C Inc.":MAILTO:info@jeffmainstreet.org
GEO:38.270949;-85.742103
X-APPLE-STRUCTURED-LOCATION;VALUE=URI;X-ADDRESS=Big Four Station 222 W. Market Street Jeffersonville IN 47130 United States;X-APPLE-RADIUS=500;X-TITLE=222 W. Market Street:geo:-85.742103,38.270949
END:VEVENT
END:VCALENDAR