BEGIN:VCALENDAR
VERSION:2.0
PRODID:-//Jeffersonville Main Street, Inc. - ECPv6.15.20//NONSGML v1.0//EN
CALSCALE:GREGORIAN
METHOD:PUBLISH
X-WR-CALNAME:Jeffersonville Main Street, Inc.
X-ORIGINAL-URL:https://www.jeffmainstreet.org
X-WR-CALDESC:Events for Jeffersonville Main Street, Inc.
REFRESH-INTERVAL;VALUE=DURATION:PT1H
X-Robots-Tag:noindex
X-PUBLISHED-TTL:PT1H
BEGIN:VTIMEZONE
TZID:America/Kentucky/Louisville
BEGIN:DAYLIGHT
TZOFFSETFROM:-0500
TZOFFSETTO:-0400
TZNAME:EDT
DTSTART:20240310T070000
END:DAYLIGHT
BEGIN:STANDARD
TZOFFSETFROM:-0400
TZOFFSETTO:-0500
TZNAME:EST
DTSTART:20241103T060000
END:STANDARD
BEGIN:DAYLIGHT
TZOFFSETFROM:-0500
TZOFFSETTO:-0400
TZNAME:EDT
DTSTART:20250309T070000
END:DAYLIGHT
BEGIN:STANDARD
TZOFFSETFROM:-0400
TZOFFSETTO:-0500
TZNAME:EST
DTSTART:20251102T060000
END:STANDARD
BEGIN:DAYLIGHT
TZOFFSETFROM:-0500
TZOFFSETTO:-0400
TZNAME:EDT
DTSTART:20260308T070000
END:DAYLIGHT
BEGIN:STANDARD
TZOFFSETFROM:-0400
TZOFFSETTO:-0500
TZNAME:EST
DTSTART:20261101T060000
END:STANDARD
END:VTIMEZONE
BEGIN:VEVENT
DTSTART;TZID=America/Kentucky/Louisville:20251004T090000
DTEND;TZID=America/Kentucky/Louisville:20251004T120000
DTSTAMP:20260419T215239
CREATED:20250112T051539Z
LAST-MODIFIED:20250112T051941Z
UID:10000953-1759568400-1759579200@www.jeffmainstreet.org
SUMMARY:Jeffersonville Farmers Market at Big Four Station
DESCRIPTION:Open Saturdays June-October at Big Four Station in Downtown Jeffersonville!\nEnjoy fresh produce\, meats\, eggs\, baked goods\, cheeses\, honey\, live music\, and more at the Jeffersonville Farmers Market at Big Four Station on 222 W. Market Street in Downtown Jeffersonville. \nClick here for more info about the Jeffersonville Farmers Market
URL:https://www.jeffmainstreet.org/event/jeffersonville-farmers-market-at-big-four-station-4-2/2025-10-04/
LOCATION:Big Four Station\, 222 W. Market Street\, Jeffersonville\, IN\, 47130\, United States
CATEGORIES:event,farmers market
ATTACH;FMTTYPE=image/png:https://www.jeffmainstreet.org/wp-content/uploads/2020/09/Webslider-Farmers-1.png
ORGANIZER;CN="Jeffersonville Main Street%2C Inc.":MAILTO:info@jeffmainstreet.org
GEO:38.270949;-85.742103
X-APPLE-STRUCTURED-LOCATION;VALUE=URI;X-ADDRESS=Big Four Station 222 W. Market Street Jeffersonville IN 47130 United States;X-APPLE-RADIUS=500;X-TITLE=222 W. Market Street:geo:-85.742103,38.270949
END:VEVENT
BEGIN:VEVENT
DTSTART;TZID=America/Kentucky/Louisville:20251004T100000
DTEND;TZID=America/Kentucky/Louisville:20251004T160000
DTSTAMP:20260419T215239
CREATED:20250917T204452Z
LAST-MODIFIED:20251002T203956Z
UID:10000957-1759572000-1759593600@www.jeffmainstreet.org
SUMMARY:Fall Celebration
DESCRIPTION:Join us this Saturday\, October 4 for the Fall Celebration & Craft Fair in Downtown Jeffersonville! Start at 300 Spring Street for the craft fair and get your passport for the pumpkin tour (where you’ll get to vote for your favorite pumpkin decorated by downtown shops)\, post online from the selfie banners\, and enjoy Fall specials & sales in local restaurants & shops on Spring Street\, Pearl Street\, Maple Street\, & adjacent streets. Start at 300 Spring Street – admission to craft fair and pumpkin tour are both FREE. \n\nCraft Fair inside 300 Spring 10am-4pm\nPumpkin Tour to vote for your favorite pumpkin 11am-3pm\n\n \nHere are some of the specials being offered in Downtown Jeffersonville shops this Saturday\, October 4: \nFALL CELEBRATION SPECIALS! \nGame on Market: Food and Drink Specials All Day! \nH.M. Franks: Fall Craft Cocktails! \nJeffBook: 10% off book purchase with donation of a hygiene item\, (toothbrush\,toothpaste\, deodorant\, pads/tampons\, wet wipes) \nPearl Street Taphouse: Pumpkin Old Fashion! \nPearl Street Treats: $5 Ice Cream Nachos & Root Beer Floats! \nPinot’s Palette: Take home paint kits and other take home crafts! \nSugar Maples Antiques & Gifts: Sidewalk Sale & Specials! \nVintage Fire Museum: $1 off Admission! \nParlour Pizza: Special on fall beer flights and caramel apple bombs. \nMarket Street Inn: Gift Certificates – Additional $25 for every $100 spent.
URL:https://www.jeffmainstreet.org/event/fall-celebration/
LOCATION:300 Spring\, 300 Spring Street\, Jeffersonville\, IN\, 47130\, United States
ORGANIZER;CN="Jeffersonville Main Street%2C Inc.":MAILTO:info@jeffmainstreet.org
GEO:38.2721282;-85.7402191
X-APPLE-STRUCTURED-LOCATION;VALUE=URI;X-ADDRESS=300 Spring 300 Spring Street Jeffersonville IN 47130 United States;X-APPLE-RADIUS=500;X-TITLE=300 Spring Street:geo:-85.7402191,38.2721282
END:VEVENT
END:VCALENDAR