BEGIN:VCALENDAR
VERSION:2.0
PRODID:-//Jeffersonville Main Street, Inc. - ECPv6.15.20//NONSGML v1.0//EN
CALSCALE:GREGORIAN
METHOD:PUBLISH
X-WR-CALNAME:Jeffersonville Main Street, Inc.
X-ORIGINAL-URL:https://www.jeffmainstreet.org
X-WR-CALDESC:Events for Jeffersonville Main Street, Inc.
REFRESH-INTERVAL;VALUE=DURATION:PT1H
X-Robots-Tag:noindex
X-PUBLISHED-TTL:PT1H
BEGIN:VTIMEZONE
TZID:America/Kentucky/Louisville
BEGIN:DAYLIGHT
TZOFFSETFROM:-0500
TZOFFSETTO:-0400
TZNAME:EDT
DTSTART:20210314T070000
END:DAYLIGHT
BEGIN:STANDARD
TZOFFSETFROM:-0400
TZOFFSETTO:-0500
TZNAME:EST
DTSTART:20211107T060000
END:STANDARD
BEGIN:DAYLIGHT
TZOFFSETFROM:-0500
TZOFFSETTO:-0400
TZNAME:EDT
DTSTART:20220313T070000
END:DAYLIGHT
BEGIN:STANDARD
TZOFFSETFROM:-0400
TZOFFSETTO:-0500
TZNAME:EST
DTSTART:20221106T060000
END:STANDARD
BEGIN:DAYLIGHT
TZOFFSETFROM:-0500
TZOFFSETTO:-0400
TZNAME:EDT
DTSTART:20230312T070000
END:DAYLIGHT
BEGIN:STANDARD
TZOFFSETFROM:-0400
TZOFFSETTO:-0500
TZNAME:EST
DTSTART:20231105T060000
END:STANDARD
BEGIN:DAYLIGHT
TZOFFSETFROM:-0500
TZOFFSETTO:-0400
TZNAME:EDT
DTSTART:20240310T070000
END:DAYLIGHT
BEGIN:STANDARD
TZOFFSETFROM:-0400
TZOFFSETTO:-0500
TZNAME:EST
DTSTART:20241103T060000
END:STANDARD
END:VTIMEZONE
BEGIN:VEVENT
DTSTART;TZID=America/Kentucky/Louisville:20230603T090000
DTEND;TZID=America/Kentucky/Louisville:20230603T120000
DTSTAMP:20260419T111307
CREATED:20150820T033921Z
LAST-MODIFIED:20230110T053041Z
UID:10000400-1685782800-1685793600@www.jeffmainstreet.org
SUMMARY:Jeffersonville Farmers Market at Big Four Station
DESCRIPTION:Opens Saturday\, June 3\, 2023 at Big Four Station!\nVendors applications available soon.\n \nSATURDAYS 9:00 am – 12:00 pm @ BIG FOUR STATION\nEnjoy fresh produce\, meats\, eggs\, baked goods\, cheeses\, honey\, live music\, and more at the Jeffersonville Farmers Market at Big Four Station on Mulberry Street in Downtown Jeffersonville. \nClick here for more info about the Jeffersonville Farmers Market
URL:https://www.jeffmainstreet.org/event/jeffersonville-farmers-market-saturdays/
LOCATION:Big Four Station\, 222 W. Market Street\, Jeffersonville\, IN\, 47130\, United States
CATEGORIES:event,farmers market
ATTACH;FMTTYPE=image/png:https://www.jeffmainstreet.org/wp-content/uploads/2020/09/Webslider-Farmers-1.png
ORGANIZER;CN="Jeffersonville Main Street%2C Inc.":MAILTO:info@jeffmainstreet.org
GEO:38.270949;-85.742103
X-APPLE-STRUCTURED-LOCATION;VALUE=URI;X-ADDRESS=Big Four Station 222 W. Market Street Jeffersonville IN 47130 United States;X-APPLE-RADIUS=500;X-TITLE=222 W. Market Street:geo:-85.742103,38.270949
END:VEVENT
BEGIN:VEVENT
DTSTART;TZID=America/Kentucky/Louisville:20230121T040000
DTEND;TZID=America/Kentucky/Louisville:20230121T070000
DTSTAMP:20260419T111307
CREATED:20160318T013731Z
LAST-MODIFIED:20160512T211757Z
UID:10000750-1674273600-1674284400@www.jeffmainstreet.org
SUMMARY:Jeffersonville Farmers Market
DESCRIPTION:
URL:https://www.jeffmainstreet.org/event/jeffersonville-farmers-market/2023-01-21/
LOCATION:Big Four Station\, 222 W. Market Street\, Jeffersonville\, IN\, 47130\, United States
CATEGORIES:farmers market
ORGANIZER;CN="Jeffersonville Main Street%2C Inc.":MAILTO:info@jeffmainstreet.org
GEO:38.270949;-85.742103
X-APPLE-STRUCTURED-LOCATION;VALUE=URI;X-ADDRESS=Big Four Station 222 W. Market Street Jeffersonville IN 47130 United States;X-APPLE-RADIUS=500;X-TITLE=222 W. Market Street:geo:-85.742103,38.270949
END:VEVENT
BEGIN:VEVENT
DTSTART;TZID=America/Kentucky/Louisville:20230114T040000
DTEND;TZID=America/Kentucky/Louisville:20230114T070000
DTSTAMP:20260419T111307
CREATED:20160318T013731Z
LAST-MODIFIED:20160512T211757Z
UID:10000749-1673668800-1673679600@www.jeffmainstreet.org
SUMMARY:Jeffersonville Farmers Market
DESCRIPTION:
URL:https://www.jeffmainstreet.org/event/jeffersonville-farmers-market/2023-01-14/
LOCATION:Big Four Station\, 222 W. Market Street\, Jeffersonville\, IN\, 47130\, United States
CATEGORIES:farmers market
ORGANIZER;CN="Jeffersonville Main Street%2C Inc.":MAILTO:info@jeffmainstreet.org
GEO:38.270949;-85.742103
X-APPLE-STRUCTURED-LOCATION;VALUE=URI;X-ADDRESS=Big Four Station 222 W. Market Street Jeffersonville IN 47130 United States;X-APPLE-RADIUS=500;X-TITLE=222 W. Market Street:geo:-85.742103,38.270949
END:VEVENT
BEGIN:VEVENT
DTSTART;TZID=America/Kentucky/Louisville:20230107T040000
DTEND;TZID=America/Kentucky/Louisville:20230107T070000
DTSTAMP:20260419T111307
CREATED:20160318T013731Z
LAST-MODIFIED:20160512T211757Z
UID:10000748-1673064000-1673074800@www.jeffmainstreet.org
SUMMARY:Jeffersonville Farmers Market
DESCRIPTION:
URL:https://www.jeffmainstreet.org/event/jeffersonville-farmers-market/2023-01-07/
LOCATION:Big Four Station\, 222 W. Market Street\, Jeffersonville\, IN\, 47130\, United States
CATEGORIES:farmers market
ORGANIZER;CN="Jeffersonville Main Street%2C Inc.":MAILTO:info@jeffmainstreet.org
GEO:38.270949;-85.742103
X-APPLE-STRUCTURED-LOCATION;VALUE=URI;X-ADDRESS=Big Four Station 222 W. Market Street Jeffersonville IN 47130 United States;X-APPLE-RADIUS=500;X-TITLE=222 W. Market Street:geo:-85.742103,38.270949
END:VEVENT
BEGIN:VEVENT
DTSTART;TZID=America/Kentucky/Louisville:20221231T040000
DTEND;TZID=America/Kentucky/Louisville:20221231T070000
DTSTAMP:20260419T111307
CREATED:20160318T013731Z
LAST-MODIFIED:20160512T211757Z
UID:10000747-1672459200-1672470000@www.jeffmainstreet.org
SUMMARY:Jeffersonville Farmers Market
DESCRIPTION:
URL:https://www.jeffmainstreet.org/event/jeffersonville-farmers-market/2022-12-31/
LOCATION:Big Four Station\, 222 W. Market Street\, Jeffersonville\, IN\, 47130\, United States
CATEGORIES:farmers market
ORGANIZER;CN="Jeffersonville Main Street%2C Inc.":MAILTO:info@jeffmainstreet.org
GEO:38.270949;-85.742103
X-APPLE-STRUCTURED-LOCATION;VALUE=URI;X-ADDRESS=Big Four Station 222 W. Market Street Jeffersonville IN 47130 United States;X-APPLE-RADIUS=500;X-TITLE=222 W. Market Street:geo:-85.742103,38.270949
END:VEVENT
BEGIN:VEVENT
DTSTART;TZID=America/Kentucky/Louisville:20221224T040000
DTEND;TZID=America/Kentucky/Louisville:20221224T070000
DTSTAMP:20260419T111307
CREATED:20160318T013731Z
LAST-MODIFIED:20160512T211757Z
UID:10000746-1671854400-1671865200@www.jeffmainstreet.org
SUMMARY:Jeffersonville Farmers Market
DESCRIPTION:
URL:https://www.jeffmainstreet.org/event/jeffersonville-farmers-market/2022-12-24/
LOCATION:Big Four Station\, 222 W. Market Street\, Jeffersonville\, IN\, 47130\, United States
CATEGORIES:farmers market
ORGANIZER;CN="Jeffersonville Main Street%2C Inc.":MAILTO:info@jeffmainstreet.org
GEO:38.270949;-85.742103
X-APPLE-STRUCTURED-LOCATION;VALUE=URI;X-ADDRESS=Big Four Station 222 W. Market Street Jeffersonville IN 47130 United States;X-APPLE-RADIUS=500;X-TITLE=222 W. Market Street:geo:-85.742103,38.270949
END:VEVENT
BEGIN:VEVENT
DTSTART;TZID=America/Kentucky/Louisville:20221217T040000
DTEND;TZID=America/Kentucky/Louisville:20221217T070000
DTSTAMP:20260419T111307
CREATED:20160318T013731Z
LAST-MODIFIED:20160512T211757Z
UID:10000745-1671249600-1671260400@www.jeffmainstreet.org
SUMMARY:Jeffersonville Farmers Market
DESCRIPTION:
URL:https://www.jeffmainstreet.org/event/jeffersonville-farmers-market/2022-12-17/
LOCATION:Big Four Station\, 222 W. Market Street\, Jeffersonville\, IN\, 47130\, United States
CATEGORIES:farmers market
ORGANIZER;CN="Jeffersonville Main Street%2C Inc.":MAILTO:info@jeffmainstreet.org
GEO:38.270949;-85.742103
X-APPLE-STRUCTURED-LOCATION;VALUE=URI;X-ADDRESS=Big Four Station 222 W. Market Street Jeffersonville IN 47130 United States;X-APPLE-RADIUS=500;X-TITLE=222 W. Market Street:geo:-85.742103,38.270949
END:VEVENT
BEGIN:VEVENT
DTSTART;TZID=America/Kentucky/Louisville:20221210T040000
DTEND;TZID=America/Kentucky/Louisville:20221210T070000
DTSTAMP:20260419T111307
CREATED:20160318T013731Z
LAST-MODIFIED:20160512T211757Z
UID:10000744-1670644800-1670655600@www.jeffmainstreet.org
SUMMARY:Jeffersonville Farmers Market
DESCRIPTION:
URL:https://www.jeffmainstreet.org/event/jeffersonville-farmers-market/2022-12-10/
LOCATION:Big Four Station\, 222 W. Market Street\, Jeffersonville\, IN\, 47130\, United States
CATEGORIES:farmers market
ORGANIZER;CN="Jeffersonville Main Street%2C Inc.":MAILTO:info@jeffmainstreet.org
GEO:38.270949;-85.742103
X-APPLE-STRUCTURED-LOCATION;VALUE=URI;X-ADDRESS=Big Four Station 222 W. Market Street Jeffersonville IN 47130 United States;X-APPLE-RADIUS=500;X-TITLE=222 W. Market Street:geo:-85.742103,38.270949
END:VEVENT
BEGIN:VEVENT
DTSTART;TZID=America/Kentucky/Louisville:20221203T040000
DTEND;TZID=America/Kentucky/Louisville:20221203T070000
DTSTAMP:20260419T111307
CREATED:20160318T013731Z
LAST-MODIFIED:20160512T211757Z
UID:10000743-1670040000-1670050800@www.jeffmainstreet.org
SUMMARY:Jeffersonville Farmers Market
DESCRIPTION:
URL:https://www.jeffmainstreet.org/event/jeffersonville-farmers-market/2022-12-03/
LOCATION:Big Four Station\, 222 W. Market Street\, Jeffersonville\, IN\, 47130\, United States
CATEGORIES:farmers market
ORGANIZER;CN="Jeffersonville Main Street%2C Inc.":MAILTO:info@jeffmainstreet.org
GEO:38.270949;-85.742103
X-APPLE-STRUCTURED-LOCATION;VALUE=URI;X-ADDRESS=Big Four Station 222 W. Market Street Jeffersonville IN 47130 United States;X-APPLE-RADIUS=500;X-TITLE=222 W. Market Street:geo:-85.742103,38.270949
END:VEVENT
BEGIN:VEVENT
DTSTART;TZID=America/Kentucky/Louisville:20221126T040000
DTEND;TZID=America/Kentucky/Louisville:20221126T070000
DTSTAMP:20260419T111307
CREATED:20160318T013731Z
LAST-MODIFIED:20160512T211757Z
UID:10000742-1669435200-1669446000@www.jeffmainstreet.org
SUMMARY:Jeffersonville Farmers Market
DESCRIPTION:
URL:https://www.jeffmainstreet.org/event/jeffersonville-farmers-market/2022-11-26/
LOCATION:Big Four Station\, 222 W. Market Street\, Jeffersonville\, IN\, 47130\, United States
CATEGORIES:farmers market
ORGANIZER;CN="Jeffersonville Main Street%2C Inc.":MAILTO:info@jeffmainstreet.org
GEO:38.270949;-85.742103
X-APPLE-STRUCTURED-LOCATION;VALUE=URI;X-ADDRESS=Big Four Station 222 W. Market Street Jeffersonville IN 47130 United States;X-APPLE-RADIUS=500;X-TITLE=222 W. Market Street:geo:-85.742103,38.270949
END:VEVENT
BEGIN:VEVENT
DTSTART;TZID=America/Kentucky/Louisville:20221119T040000
DTEND;TZID=America/Kentucky/Louisville:20221119T070000
DTSTAMP:20260419T111307
CREATED:20160318T013731Z
LAST-MODIFIED:20160512T211757Z
UID:10000741-1668830400-1668841200@www.jeffmainstreet.org
SUMMARY:Jeffersonville Farmers Market
DESCRIPTION:
URL:https://www.jeffmainstreet.org/event/jeffersonville-farmers-market/2022-11-19/
LOCATION:Big Four Station\, 222 W. Market Street\, Jeffersonville\, IN\, 47130\, United States
CATEGORIES:farmers market
ORGANIZER;CN="Jeffersonville Main Street%2C Inc.":MAILTO:info@jeffmainstreet.org
GEO:38.270949;-85.742103
X-APPLE-STRUCTURED-LOCATION;VALUE=URI;X-ADDRESS=Big Four Station 222 W. Market Street Jeffersonville IN 47130 United States;X-APPLE-RADIUS=500;X-TITLE=222 W. Market Street:geo:-85.742103,38.270949
END:VEVENT
BEGIN:VEVENT
DTSTART;TZID=America/Kentucky/Louisville:20221112T040000
DTEND;TZID=America/Kentucky/Louisville:20221112T070000
DTSTAMP:20260419T111307
CREATED:20160318T013731Z
LAST-MODIFIED:20160512T211757Z
UID:10000740-1668225600-1668236400@www.jeffmainstreet.org
SUMMARY:Jeffersonville Farmers Market
DESCRIPTION:
URL:https://www.jeffmainstreet.org/event/jeffersonville-farmers-market/2022-11-12/
LOCATION:Big Four Station\, 222 W. Market Street\, Jeffersonville\, IN\, 47130\, United States
CATEGORIES:farmers market
ORGANIZER;CN="Jeffersonville Main Street%2C Inc.":MAILTO:info@jeffmainstreet.org
GEO:38.270949;-85.742103
X-APPLE-STRUCTURED-LOCATION;VALUE=URI;X-ADDRESS=Big Four Station 222 W. Market Street Jeffersonville IN 47130 United States;X-APPLE-RADIUS=500;X-TITLE=222 W. Market Street:geo:-85.742103,38.270949
END:VEVENT
BEGIN:VEVENT
DTSTART;TZID=America/Kentucky/Louisville:20221105T050000
DTEND;TZID=America/Kentucky/Louisville:20221105T080000
DTSTAMP:20260419T111307
CREATED:20160318T013731Z
LAST-MODIFIED:20160512T211757Z
UID:10000739-1667624400-1667635200@www.jeffmainstreet.org
SUMMARY:Jeffersonville Farmers Market
DESCRIPTION:
URL:https://www.jeffmainstreet.org/event/jeffersonville-farmers-market/2022-11-05/
LOCATION:Big Four Station\, 222 W. Market Street\, Jeffersonville\, IN\, 47130\, United States
CATEGORIES:farmers market
ORGANIZER;CN="Jeffersonville Main Street%2C Inc.":MAILTO:info@jeffmainstreet.org
GEO:38.270949;-85.742103
X-APPLE-STRUCTURED-LOCATION;VALUE=URI;X-ADDRESS=Big Four Station 222 W. Market Street Jeffersonville IN 47130 United States;X-APPLE-RADIUS=500;X-TITLE=222 W. Market Street:geo:-85.742103,38.270949
END:VEVENT
BEGIN:VEVENT
DTSTART;TZID=America/Kentucky/Louisville:20221029T050000
DTEND;TZID=America/Kentucky/Louisville:20221029T080000
DTSTAMP:20260419T111307
CREATED:20160318T013731Z
LAST-MODIFIED:20160512T211757Z
UID:10000738-1667019600-1667030400@www.jeffmainstreet.org
SUMMARY:Jeffersonville Farmers Market
DESCRIPTION:
URL:https://www.jeffmainstreet.org/event/jeffersonville-farmers-market/2022-10-29/
LOCATION:Big Four Station\, 222 W. Market Street\, Jeffersonville\, IN\, 47130\, United States
CATEGORIES:farmers market
ORGANIZER;CN="Jeffersonville Main Street%2C Inc.":MAILTO:info@jeffmainstreet.org
GEO:38.270949;-85.742103
X-APPLE-STRUCTURED-LOCATION;VALUE=URI;X-ADDRESS=Big Four Station 222 W. Market Street Jeffersonville IN 47130 United States;X-APPLE-RADIUS=500;X-TITLE=222 W. Market Street:geo:-85.742103,38.270949
END:VEVENT
BEGIN:VEVENT
DTSTART;TZID=America/Kentucky/Louisville:20221022T050000
DTEND;TZID=America/Kentucky/Louisville:20221022T080000
DTSTAMP:20260419T111307
CREATED:20160318T013731Z
LAST-MODIFIED:20160512T211757Z
UID:10000737-1666414800-1666425600@www.jeffmainstreet.org
SUMMARY:Jeffersonville Farmers Market
DESCRIPTION:
URL:https://www.jeffmainstreet.org/event/jeffersonville-farmers-market/2022-10-22/
LOCATION:Big Four Station\, 222 W. Market Street\, Jeffersonville\, IN\, 47130\, United States
CATEGORIES:farmers market
ORGANIZER;CN="Jeffersonville Main Street%2C Inc.":MAILTO:info@jeffmainstreet.org
GEO:38.270949;-85.742103
X-APPLE-STRUCTURED-LOCATION;VALUE=URI;X-ADDRESS=Big Four Station 222 W. Market Street Jeffersonville IN 47130 United States;X-APPLE-RADIUS=500;X-TITLE=222 W. Market Street:geo:-85.742103,38.270949
END:VEVENT
BEGIN:VEVENT
DTSTART;TZID=America/Kentucky/Louisville:20221015T050000
DTEND;TZID=America/Kentucky/Louisville:20221015T080000
DTSTAMP:20260419T111307
CREATED:20160318T013731Z
LAST-MODIFIED:20160512T211757Z
UID:10000736-1665810000-1665820800@www.jeffmainstreet.org
SUMMARY:Jeffersonville Farmers Market
DESCRIPTION:
URL:https://www.jeffmainstreet.org/event/jeffersonville-farmers-market/2022-10-15/
LOCATION:Big Four Station\, 222 W. Market Street\, Jeffersonville\, IN\, 47130\, United States
CATEGORIES:farmers market
ORGANIZER;CN="Jeffersonville Main Street%2C Inc.":MAILTO:info@jeffmainstreet.org
GEO:38.270949;-85.742103
X-APPLE-STRUCTURED-LOCATION;VALUE=URI;X-ADDRESS=Big Four Station 222 W. Market Street Jeffersonville IN 47130 United States;X-APPLE-RADIUS=500;X-TITLE=222 W. Market Street:geo:-85.742103,38.270949
END:VEVENT
BEGIN:VEVENT
DTSTART;TZID=America/Kentucky/Louisville:20221008T050000
DTEND;TZID=America/Kentucky/Louisville:20221008T080000
DTSTAMP:20260419T111307
CREATED:20160318T013731Z
LAST-MODIFIED:20160512T211757Z
UID:10000735-1665205200-1665216000@www.jeffmainstreet.org
SUMMARY:Jeffersonville Farmers Market
DESCRIPTION:
URL:https://www.jeffmainstreet.org/event/jeffersonville-farmers-market/2022-10-08/
LOCATION:Big Four Station\, 222 W. Market Street\, Jeffersonville\, IN\, 47130\, United States
CATEGORIES:farmers market
ORGANIZER;CN="Jeffersonville Main Street%2C Inc.":MAILTO:info@jeffmainstreet.org
GEO:38.270949;-85.742103
X-APPLE-STRUCTURED-LOCATION;VALUE=URI;X-ADDRESS=Big Four Station 222 W. Market Street Jeffersonville IN 47130 United States;X-APPLE-RADIUS=500;X-TITLE=222 W. Market Street:geo:-85.742103,38.270949
END:VEVENT
BEGIN:VEVENT
DTSTART;TZID=America/Kentucky/Louisville:20221001T180000
DTEND;TZID=America/Kentucky/Louisville:20221001T220000
DTSTAMP:20260419T111307
CREATED:20150820T042329Z
LAST-MODIFIED:20220927T122126Z
UID:10000424-1664647200-1664661600@www.jeffmainstreet.org
SUMMARY:Steamboat Nights
DESCRIPTION:Jeffersonville’s glow up festival takes over Big Four Station Park on September 30 & Oct 1\, 7 pm – 11 pm\n \nThere will be plenty of FREE family fun for everyone!\n \n• Family Fun Zone by Southeast Christian Church\n• Rides – LED Train\, Giant Slide\, Musical Swings\n• Selfie Stroll\n• Balloon Glimmer\n• Face Painting\n• Blacklight Arts & Crafts\n \nDJ Slikk will be spinning all your favorite tunes at the Silent Disco\n \n\n 
URL:https://www.jeffmainstreet.org/event/steamboat-days/2022-10-01/
LOCATION:Big Four Station\, 222 W. Market Street\, Jeffersonville\, IN\, 47130\, United States
CATEGORIES:event
GEO:38.270949;-85.742103
X-APPLE-STRUCTURED-LOCATION;VALUE=URI;X-ADDRESS=Big Four Station 222 W. Market Street Jeffersonville IN 47130 United States;X-APPLE-RADIUS=500;X-TITLE=222 W. Market Street:geo:-85.742103,38.270949
END:VEVENT
BEGIN:VEVENT
DTSTART;TZID=America/Kentucky/Louisville:20221001T050000
DTEND;TZID=America/Kentucky/Louisville:20221001T080000
DTSTAMP:20260419T111307
CREATED:20160318T013731Z
LAST-MODIFIED:20160512T211757Z
UID:10000734-1664600400-1664611200@www.jeffmainstreet.org
SUMMARY:Jeffersonville Farmers Market
DESCRIPTION:
URL:https://www.jeffmainstreet.org/event/jeffersonville-farmers-market/2022-10-01/
LOCATION:Big Four Station\, 222 W. Market Street\, Jeffersonville\, IN\, 47130\, United States
CATEGORIES:farmers market
ORGANIZER;CN="Jeffersonville Main Street%2C Inc.":MAILTO:info@jeffmainstreet.org
GEO:38.270949;-85.742103
X-APPLE-STRUCTURED-LOCATION;VALUE=URI;X-ADDRESS=Big Four Station 222 W. Market Street Jeffersonville IN 47130 United States;X-APPLE-RADIUS=500;X-TITLE=222 W. Market Street:geo:-85.742103,38.270949
END:VEVENT
BEGIN:VEVENT
DTSTART;TZID=America/Kentucky/Louisville:20220930T180000
DTEND;TZID=America/Kentucky/Louisville:20220930T220000
DTSTAMP:20260419T111307
CREATED:20150820T042329Z
LAST-MODIFIED:20220927T122126Z
UID:10000423-1664560800-1664575200@www.jeffmainstreet.org
SUMMARY:Steamboat Nights
DESCRIPTION:Jeffersonville’s glow up festival takes over Big Four Station Park on September 30 & Oct 1\, 7 pm – 11 pm\n \nThere will be plenty of FREE family fun for everyone!\n \n• Family Fun Zone by Southeast Christian Church\n• Rides – LED Train\, Giant Slide\, Musical Swings\n• Selfie Stroll\n• Balloon Glimmer\n• Face Painting\n• Blacklight Arts & Crafts\n \nDJ Slikk will be spinning all your favorite tunes at the Silent Disco\n \n\n 
URL:https://www.jeffmainstreet.org/event/steamboat-days/2022-09-30/
LOCATION:Big Four Station\, 222 W. Market Street\, Jeffersonville\, IN\, 47130\, United States
CATEGORIES:event
GEO:38.270949;-85.742103
X-APPLE-STRUCTURED-LOCATION;VALUE=URI;X-ADDRESS=Big Four Station 222 W. Market Street Jeffersonville IN 47130 United States;X-APPLE-RADIUS=500;X-TITLE=222 W. Market Street:geo:-85.742103,38.270949
END:VEVENT
BEGIN:VEVENT
DTSTART;TZID=America/Kentucky/Louisville:20220924T050000
DTEND;TZID=America/Kentucky/Louisville:20220924T080000
DTSTAMP:20260419T111307
CREATED:20160318T013731Z
LAST-MODIFIED:20160512T211757Z
UID:10000733-1663995600-1664006400@www.jeffmainstreet.org
SUMMARY:Jeffersonville Farmers Market
DESCRIPTION:
URL:https://www.jeffmainstreet.org/event/jeffersonville-farmers-market/2022-09-24/
LOCATION:Big Four Station\, 222 W. Market Street\, Jeffersonville\, IN\, 47130\, United States
CATEGORIES:farmers market
ORGANIZER;CN="Jeffersonville Main Street%2C Inc.":MAILTO:info@jeffmainstreet.org
GEO:38.270949;-85.742103
X-APPLE-STRUCTURED-LOCATION;VALUE=URI;X-ADDRESS=Big Four Station 222 W. Market Street Jeffersonville IN 47130 United States;X-APPLE-RADIUS=500;X-TITLE=222 W. Market Street:geo:-85.742103,38.270949
END:VEVENT
BEGIN:VEVENT
DTSTART;TZID=America/Kentucky/Louisville:20220917T050000
DTEND;TZID=America/Kentucky/Louisville:20220917T080000
DTSTAMP:20260419T111307
CREATED:20160318T013731Z
LAST-MODIFIED:20160512T211757Z
UID:10000732-1663390800-1663401600@www.jeffmainstreet.org
SUMMARY:Jeffersonville Farmers Market
DESCRIPTION:
URL:https://www.jeffmainstreet.org/event/jeffersonville-farmers-market/2022-09-17/
LOCATION:Big Four Station\, 222 W. Market Street\, Jeffersonville\, IN\, 47130\, United States
CATEGORIES:farmers market
ORGANIZER;CN="Jeffersonville Main Street%2C Inc.":MAILTO:info@jeffmainstreet.org
GEO:38.270949;-85.742103
X-APPLE-STRUCTURED-LOCATION;VALUE=URI;X-ADDRESS=Big Four Station 222 W. Market Street Jeffersonville IN 47130 United States;X-APPLE-RADIUS=500;X-TITLE=222 W. Market Street:geo:-85.742103,38.270949
END:VEVENT
BEGIN:VEVENT
DTSTART;TZID=America/Kentucky/Louisville:20220910T050000
DTEND;TZID=America/Kentucky/Louisville:20220910T080000
DTSTAMP:20260419T111307
CREATED:20160318T013731Z
LAST-MODIFIED:20160512T211757Z
UID:10000731-1662786000-1662796800@www.jeffmainstreet.org
SUMMARY:Jeffersonville Farmers Market
DESCRIPTION:
URL:https://www.jeffmainstreet.org/event/jeffersonville-farmers-market/2022-09-10/
LOCATION:Big Four Station\, 222 W. Market Street\, Jeffersonville\, IN\, 47130\, United States
CATEGORIES:farmers market
ORGANIZER;CN="Jeffersonville Main Street%2C Inc.":MAILTO:info@jeffmainstreet.org
GEO:38.270949;-85.742103
X-APPLE-STRUCTURED-LOCATION;VALUE=URI;X-ADDRESS=Big Four Station 222 W. Market Street Jeffersonville IN 47130 United States;X-APPLE-RADIUS=500;X-TITLE=222 W. Market Street:geo:-85.742103,38.270949
END:VEVENT
BEGIN:VEVENT
DTSTART;TZID=America/Kentucky/Louisville:20220903T050000
DTEND;TZID=America/Kentucky/Louisville:20220903T080000
DTSTAMP:20260419T111307
CREATED:20160318T013731Z
LAST-MODIFIED:20160512T211757Z
UID:10000730-1662181200-1662192000@www.jeffmainstreet.org
SUMMARY:Jeffersonville Farmers Market
DESCRIPTION:
URL:https://www.jeffmainstreet.org/event/jeffersonville-farmers-market/2022-09-03/
LOCATION:Big Four Station\, 222 W. Market Street\, Jeffersonville\, IN\, 47130\, United States
CATEGORIES:farmers market
ORGANIZER;CN="Jeffersonville Main Street%2C Inc.":MAILTO:info@jeffmainstreet.org
GEO:38.270949;-85.742103
X-APPLE-STRUCTURED-LOCATION;VALUE=URI;X-ADDRESS=Big Four Station 222 W. Market Street Jeffersonville IN 47130 United States;X-APPLE-RADIUS=500;X-TITLE=222 W. Market Street:geo:-85.742103,38.270949
END:VEVENT
BEGIN:VEVENT
DTSTART;TZID=America/Kentucky/Louisville:20220827T050000
DTEND;TZID=America/Kentucky/Louisville:20220827T080000
DTSTAMP:20260419T111307
CREATED:20160318T013731Z
LAST-MODIFIED:20160512T211757Z
UID:10000729-1661576400-1661587200@www.jeffmainstreet.org
SUMMARY:Jeffersonville Farmers Market
DESCRIPTION:
URL:https://www.jeffmainstreet.org/event/jeffersonville-farmers-market/2022-08-27/
LOCATION:Big Four Station\, 222 W. Market Street\, Jeffersonville\, IN\, 47130\, United States
CATEGORIES:farmers market
ORGANIZER;CN="Jeffersonville Main Street%2C Inc.":MAILTO:info@jeffmainstreet.org
GEO:38.270949;-85.742103
X-APPLE-STRUCTURED-LOCATION;VALUE=URI;X-ADDRESS=Big Four Station 222 W. Market Street Jeffersonville IN 47130 United States;X-APPLE-RADIUS=500;X-TITLE=222 W. Market Street:geo:-85.742103,38.270949
END:VEVENT
BEGIN:VEVENT
DTSTART;TZID=America/Kentucky/Louisville:20220820T050000
DTEND;TZID=America/Kentucky/Louisville:20220820T080000
DTSTAMP:20260419T111307
CREATED:20160318T013731Z
LAST-MODIFIED:20160512T211757Z
UID:10000728-1660971600-1660982400@www.jeffmainstreet.org
SUMMARY:Jeffersonville Farmers Market
DESCRIPTION:
URL:https://www.jeffmainstreet.org/event/jeffersonville-farmers-market/2022-08-20/
LOCATION:Big Four Station\, 222 W. Market Street\, Jeffersonville\, IN\, 47130\, United States
CATEGORIES:farmers market
ORGANIZER;CN="Jeffersonville Main Street%2C Inc.":MAILTO:info@jeffmainstreet.org
GEO:38.270949;-85.742103
X-APPLE-STRUCTURED-LOCATION;VALUE=URI;X-ADDRESS=Big Four Station 222 W. Market Street Jeffersonville IN 47130 United States;X-APPLE-RADIUS=500;X-TITLE=222 W. Market Street:geo:-85.742103,38.270949
END:VEVENT
BEGIN:VEVENT
DTSTART;TZID=America/Kentucky/Louisville:20220813T050000
DTEND;TZID=America/Kentucky/Louisville:20220813T080000
DTSTAMP:20260419T111307
CREATED:20160318T013731Z
LAST-MODIFIED:20160512T211757Z
UID:10000727-1660366800-1660377600@www.jeffmainstreet.org
SUMMARY:Jeffersonville Farmers Market
DESCRIPTION:
URL:https://www.jeffmainstreet.org/event/jeffersonville-farmers-market/2022-08-13/
LOCATION:Big Four Station\, 222 W. Market Street\, Jeffersonville\, IN\, 47130\, United States
CATEGORIES:farmers market
ORGANIZER;CN="Jeffersonville Main Street%2C Inc.":MAILTO:info@jeffmainstreet.org
GEO:38.270949;-85.742103
X-APPLE-STRUCTURED-LOCATION;VALUE=URI;X-ADDRESS=Big Four Station 222 W. Market Street Jeffersonville IN 47130 United States;X-APPLE-RADIUS=500;X-TITLE=222 W. Market Street:geo:-85.742103,38.270949
END:VEVENT
BEGIN:VEVENT
DTSTART;TZID=America/Kentucky/Louisville:20220806T050000
DTEND;TZID=America/Kentucky/Louisville:20220806T080000
DTSTAMP:20260419T111307
CREATED:20160318T013731Z
LAST-MODIFIED:20160512T211757Z
UID:10000726-1659762000-1659772800@www.jeffmainstreet.org
SUMMARY:Jeffersonville Farmers Market
DESCRIPTION:
URL:https://www.jeffmainstreet.org/event/jeffersonville-farmers-market/2022-08-06/
LOCATION:Big Four Station\, 222 W. Market Street\, Jeffersonville\, IN\, 47130\, United States
CATEGORIES:farmers market
ORGANIZER;CN="Jeffersonville Main Street%2C Inc.":MAILTO:info@jeffmainstreet.org
GEO:38.270949;-85.742103
X-APPLE-STRUCTURED-LOCATION;VALUE=URI;X-ADDRESS=Big Four Station 222 W. Market Street Jeffersonville IN 47130 United States;X-APPLE-RADIUS=500;X-TITLE=222 W. Market Street:geo:-85.742103,38.270949
END:VEVENT
BEGIN:VEVENT
DTSTART;TZID=America/Kentucky/Louisville:20220730T050000
DTEND;TZID=America/Kentucky/Louisville:20220730T080000
DTSTAMP:20260419T111307
CREATED:20160318T013731Z
LAST-MODIFIED:20160512T211757Z
UID:10000725-1659157200-1659168000@www.jeffmainstreet.org
SUMMARY:Jeffersonville Farmers Market
DESCRIPTION:
URL:https://www.jeffmainstreet.org/event/jeffersonville-farmers-market/2022-07-30/
LOCATION:Big Four Station\, 222 W. Market Street\, Jeffersonville\, IN\, 47130\, United States
CATEGORIES:farmers market
ORGANIZER;CN="Jeffersonville Main Street%2C Inc.":MAILTO:info@jeffmainstreet.org
GEO:38.270949;-85.742103
X-APPLE-STRUCTURED-LOCATION;VALUE=URI;X-ADDRESS=Big Four Station 222 W. Market Street Jeffersonville IN 47130 United States;X-APPLE-RADIUS=500;X-TITLE=222 W. Market Street:geo:-85.742103,38.270949
END:VEVENT
BEGIN:VEVENT
DTSTART;TZID=America/Kentucky/Louisville:20220723T050000
DTEND;TZID=America/Kentucky/Louisville:20220723T080000
DTSTAMP:20260419T111307
CREATED:20160318T013731Z
LAST-MODIFIED:20160512T211757Z
UID:10000724-1658552400-1658563200@www.jeffmainstreet.org
SUMMARY:Jeffersonville Farmers Market
DESCRIPTION:
URL:https://www.jeffmainstreet.org/event/jeffersonville-farmers-market/2022-07-23/
LOCATION:Big Four Station\, 222 W. Market Street\, Jeffersonville\, IN\, 47130\, United States
CATEGORIES:farmers market
ORGANIZER;CN="Jeffersonville Main Street%2C Inc.":MAILTO:info@jeffmainstreet.org
GEO:38.270949;-85.742103
X-APPLE-STRUCTURED-LOCATION;VALUE=URI;X-ADDRESS=Big Four Station 222 W. Market Street Jeffersonville IN 47130 United States;X-APPLE-RADIUS=500;X-TITLE=222 W. Market Street:geo:-85.742103,38.270949
END:VEVENT
END:VCALENDAR